BEGIN:VCALENDAR
VERSION:2.0
PRODID:-//BZBI - ECPv5.16.4//NONSGML v1.0//EN
CALSCALE:GREGORIAN
METHOD:PUBLISH
X-WR-CALNAME:BZBI
X-ORIGINAL-URL:https://bzbi.org
X-WR-CALDESC:Events for BZBI
REFRESH-INTERVAL;VALUE=DURATION:PT1H
X-Robots-Tag:noindex
X-PUBLISHED-TTL:PT1H
BEGIN:VTIMEZONE
TZID:America/New_York
BEGIN:DAYLIGHT
TZOFFSETFROM:-0500
TZOFFSETTO:-0400
TZNAME:EDT
DTSTART:20260308T070000
END:DAYLIGHT
BEGIN:STANDARD
TZOFFSETFROM:-0400
TZOFFSETTO:-0500
TZNAME:EST
DTSTART:20261101T060000
END:STANDARD
END:VTIMEZONE
BEGIN:VEVENT
DTSTART;TZID=America/New_York:20260208T090000
DTEND;TZID=America/New_York:20260208T103000
DTSTAMP:20260423T074512
CREATED:20200511T171708Z
LAST-MODIFIED:20200511T171708Z
UID:26382-1770541200-1770546600@bzbi.org
SUMMARY:Sunday Morning Minyan and Schmooze
DESCRIPTION:Join us every Sunday morning for a spirited\, musical service: click here for more information.  \nTo join Sunday morning Minyan on Zoom\, click here. 
URL:https://bzbi.org/event/online-sunday-schmooze-2022-08-28-2023-05-07/2026-02-08/
LOCATION:BZBI chapel
CATEGORIES:Adults,Everyone,Families,Social
ATTACH;FMTTYPE=image/jpeg:https://bzbi.org/wp-content/uploads/2020/05/sundaymorningminyan.jpg
END:VEVENT
BEGIN:VEVENT
DTSTART;TZID=America/New_York:20260208T090000
DTEND;TZID=America/New_York:20260208T110000
DTSTAMP:20260423T074512
CREATED:20260113T193521Z
LAST-MODIFIED:20260113T193521Z
UID:29001-1770541200-1770548400@bzbi.org
SUMMARY:World Wide Wrap Day
DESCRIPTION:Join the Congregational Learning Committee and the Men’s Club for World Wide Wrap Day on February 8! This is an opportunity to learn how to wrap tefillin ahead of Sunday morning minyan. \nStick around after the service for a nosh and some text study with Diana Myers about the mitzvah of tefillin. We will have spare sets available for those who want to learn to wrap. All ages and genders are welcome.
URL:https://bzbi.org/event/world-wide-wrap-day/
LOCATION:BZBI chapel
CATEGORIES:Adults,Everyone,Worship
ATTACH;FMTTYPE=image/jpeg:https://bzbi.org/wp-content/uploads/2026/01/Tefillin.jpg
END:VEVENT
BEGIN:VEVENT
DTSTART;TZID=America/New_York:20260209T074500
DTEND;TZID=America/New_York:20260209T083000
DTSTAMP:20260423T074512
CREATED:20230504T153708Z
LAST-MODIFIED:20230504T153708Z
UID:26399-1770623100-1770625800@bzbi.org
SUMMARY:Monday & Thursday Morning Minyan
DESCRIPTION:Join us for Minyan in the Chapel & on Zoom on both Monday and Thursday mornings: for more information\, click here.  \nTo join Monday or Thursday morning Minyan on Zoom\, click here. 
URL:https://bzbi.org/event/monday-thursday-morning-minyan/2026-02-09/
LOCATION:In the Chapel & on Zoom
CATEGORIES:Adults,Worship
ATTACH;FMTTYPE=image/jpeg:https://bzbi.org/wp-content/uploads/2023/05/mondaythursdaymorningminyan.jpg
END:VEVENT
BEGIN:VEVENT
DTSTART;TZID=America/New_York:20260209T200000
DTEND;TZID=America/New_York:20260209T213000
DTSTAMP:20260423T074512
CREATED:20250826T162952Z
LAST-MODIFIED:20250826T163025Z
UID:28465-1770667200-1770672600@bzbi.org
SUMMARY:Zohar Study Group led by Rabbi David Greenstein
DESCRIPTION:Weekly on Monday evenings at 8:00 PM on Zoom – starting September 8\, please note the course will meet twice in September (8 & 29) and then resume weekly after the High Holy Days on October 20  \nWord by word\, line by line\, page by page\, we follow the Zohar\, the most precious book of Jewish mystical teachings\, as it leads us along its paths of primordial wisdom. By turns profound\, puzzling\, shocking and amusing\, the Zohar helps us\, through our study and our open discussions\, to taste of the Tree of Life. Our studies touch on such topics as – the nature of God\, the relationship between God and the world\, the human soul\, the purpose of life\, Jewish traditions and their meanings\, sexuality and holiness\, good and evil\, caring for one’s self and caring for others. \nThis course will run every Monday throughout the academic year. The cost is $180 for BZBI members and $250 for community members. \nClick here to register.
URL:https://bzbi.org/event/zohar-study-group-led-by-rabbi-david-greenstein-register-today/2026-02-09/
LOCATION:Zoom Only
CATEGORIES:Adults,Classes
ATTACH;FMTTYPE=image/jpeg:https://bzbi.org/wp-content/uploads/2024/08/rabbidavidgreenstein.jpg
END:VEVENT
BEGIN:VEVENT
DTSTART;TZID=America/New_York:20260210T074500
DTEND;TZID=America/New_York:20260210T083000
DTSTAMP:20260423T074512
CREATED:20230504T154255Z
LAST-MODIFIED:20230504T154255Z
UID:26400-1770709500-1770712200@bzbi.org
SUMMARY:Tuesday & Wednesday Morning Minyan
DESCRIPTION:Join us for Tuesday and Wednesday morning Minyan on Zoom: click here for more information.  \nTo join Tuesday and Wednesday morning Minyan on Zoom\, click here. 
URL:https://bzbi.org/event/tuesday-wednesday-morning-minyan/2026-02-10/
LOCATION:Zoom Only
CATEGORIES:Adults,Worship
ATTACH;FMTTYPE=image/jpeg:https://bzbi.org/wp-content/uploads/2023/05/tuesdaywednesdayminyanmorning.jpg
END:VEVENT
BEGIN:VEVENT
DTSTART;TZID=America/New_York:20260210T103000
DTEND;TZID=America/New_York:20260210T113000
DTSTAMP:20260423T074512
CREATED:20250826T175216Z
LAST-MODIFIED:20250826T175216Z
UID:28802-1770719400-1770723000@bzbi.org
SUMMARY:The Book of Daniel with Rabbi Ira Stone
DESCRIPTION:Weekly on Tuesday’s\, Starting October 21 at 10:30 AM on Zoom \nThis year our weekly Tanach class will study the last and possibly strangest book of the Bible\, the Book of Daniel. Written in the 2nd century BCE purporting to describe events hundreds of years earlier\, the book has long been a source for both Jewish and Christian readers of mystical\, apocalyptic\, and eschatological speculation\, including the first Scriptural mention of the idea of the resurrection of the dead. The book has also served as a source for literary allusions throughout the history of Western literature and is certainly one that we should be more familiar with. Join us for the adventure!Click here to register. \nA zoom link will be distributed ahead of the first class meeting after participants have registered. The cost is $180 for BZBI members and $250 for community members. 
URL:https://bzbi.org/event/the-book-of-daniel-with-rabbi-ira-stone/2026-02-10/
LOCATION:Zoom Only
CATEGORIES:Adults,Classes
ATTACH;FMTTYPE=image/jpeg:https://bzbi.org/wp-content/uploads/2025/08/1-e1756230721746.jpg
END:VEVENT
BEGIN:VEVENT
DTSTART;TZID=America/New_York:20260211T074500
DTEND;TZID=America/New_York:20260211T083000
DTSTAMP:20260423T074512
CREATED:20230504T154255Z
LAST-MODIFIED:20230504T154255Z
UID:26401-1770795900-1770798600@bzbi.org
SUMMARY:Tuesday & Wednesday Morning Minyan
DESCRIPTION:Join us for Tuesday and Wednesday morning Minyan on Zoom: click here for more information.  \nTo join Tuesday and Wednesday morning Minyan on Zoom\, click here. 
URL:https://bzbi.org/event/tuesday-wednesday-morning-minyan/2026-02-11/
LOCATION:Zoom Only
CATEGORIES:Adults,Worship
ATTACH;FMTTYPE=image/jpeg:https://bzbi.org/wp-content/uploads/2023/05/tuesdaywednesdayminyanmorning.jpg
END:VEVENT
BEGIN:VEVENT
DTSTART;TZID=America/New_York:20260212T074500
DTEND;TZID=America/New_York:20260212T083000
DTSTAMP:20260423T074512
CREATED:20230504T153708Z
LAST-MODIFIED:20230504T153708Z
UID:26405-1770882300-1770885000@bzbi.org
SUMMARY:Monday & Thursday Morning Minyan
DESCRIPTION:Join us for Minyan in the Chapel & on Zoom on both Monday and Thursday mornings: for more information\, click here.  \nTo join Monday or Thursday morning Minyan on Zoom\, click here. 
URL:https://bzbi.org/event/monday-thursday-morning-minyan/2026-02-12/
LOCATION:In the Chapel & on Zoom
CATEGORIES:Adults,Worship
ATTACH;FMTTYPE=image/jpeg:https://bzbi.org/wp-content/uploads/2023/05/mondaythursdaymorningminyan.jpg
END:VEVENT
BEGIN:VEVENT
DTSTART;TZID=America/New_York:20260212T120000
DTEND;TZID=America/New_York:20260212T133000
DTSTAMP:20260423T074512
CREATED:20260209T173602Z
LAST-MODIFIED:20260209T173602Z
UID:29076-1770897600-1770903000@bzbi.org
SUMMARY:It's About Time: Time and Difference in Rabbinic Judaism 
DESCRIPTION:Join BZBI’s Rabbi Abi Weber and Mekor Habracha’s Rabbi Steven Gotlib as they co-teach a 5-session series in Center City (near Market Street). The focus will be the book Time and Difference in Rabbinic Judaism by Dr. Sarit Kattan Gribetz (Associate Professor of Religious Studies at Yale University). The class is $36 per session and kosher lunch will be served. \nClick here to register.  \n(Center City location – address given upon registration) 
URL:https://bzbi.org/event/its-about-time-time-and-difference-in-rabbinic-judaism/2026-02-12/
CATEGORIES:Adults,Classes
ATTACH;FMTTYPE=image/jpeg:https://bzbi.org/wp-content/uploads/2026/02/TimeAndDifference.jpg
END:VEVENT
BEGIN:VEVENT
DTSTART;TZID=America/New_York:20260212T180000
DTEND;TZID=America/New_York:20260212T190000
DTSTAMP:20260423T074512
CREATED:20250916T160206Z
LAST-MODIFIED:20260120T194130Z
UID:28644-1770919200-1770922800@bzbi.org
SUMMARY:Hebrew Reading II
DESCRIPTION:Thursdays\, 6:00-7:15 PM at BZBI – January 22 through May 7 (Please note class will not take place on April 2 & April 9 due to Pesach)  \nFor those who know the alef-bet who want to expand their vocabulary of prayerbook and Biblical Hebrew and learn some grammar. This class is a continuation of last year’s Hebrew Reading I but newcomers are welcome. We will use the First Hebrew Primer\, 3rd ed available from: \n\nAmazon\nEKS\n\nRegister Now.
URL:https://bzbi.org/event/hebrew-reading-ii/2026-02-12/
LOCATION:BZBI\, 300 South 18th Street\, Philadelphia\, PA\, 19103\, United States
CATEGORIES:Adults,Classes
ATTACH;FMTTYPE=image/jpeg:https://bzbi.org/wp-content/uploads/2025/09/ahava-black.jpg
END:VEVENT
BEGIN:VEVENT
DTSTART;TZID=America/New_York:20260212T193000
DTEND;TZID=America/New_York:20260212T203000
DTSTAMP:20260423T074512
CREATED:20250916T155531Z
LAST-MODIFIED:20260121T154641Z
UID:28617-1770924600-1770928200@bzbi.org
SUMMARY:Hebrew Reading I
DESCRIPTION:Thursdays\, 7:30-8:45 PM at BZBI (materials provided) – January 22 through May 7 (please note that class will not meet on April 2 & April 9 due to Pesach) \nFor anyone who wants to learn the alef-bet and some basic prayerbook vocabulary—or those feeling rusty at reading Hebrew aloud. We will use the innovative text-booklet from the National Jewish Outreach Project. \nRegister Now.
URL:https://bzbi.org/event/hebrew-reading-i-course/2026-02-12/
LOCATION:BZBI\, 300 South 18th Street\, Philadelphia\, PA\, 19103\, United States
CATEGORIES:Adults,Classes
ATTACH;FMTTYPE=image/jpeg:https://bzbi.org/wp-content/uploads/2025/09/alef-bet-purple.jpg
END:VEVENT
BEGIN:VEVENT
DTSTART;TZID=America/New_York:20260213T074500
DTEND;TZID=America/New_York:20260213T083000
DTSTAMP:20260423T074512
CREATED:20230503T210439Z
LAST-MODIFIED:20241031T183503Z
UID:26408-1770968700-1770971400@bzbi.org
SUMMARY:Friday Morning Mindful Minyan
DESCRIPTION:Join us for Friday morning Mindful Minyan: click here for more information. \nJoin Friday Morning Mindful Minyan by clicking here.
URL:https://bzbi.org/event/mindful-minyan/2026-02-13/
LOCATION:Zoom Only
CATEGORIES:Everyone,Shabbat,Worship
ATTACH;FMTTYPE=image/jpeg:https://bzbi.org/wp-content/uploads/2023/05/fridaymorningminyan.jpg
END:VEVENT
BEGIN:VEVENT
DTSTART;TZID=America/New_York:20260214T093000
DTEND;TZID=America/New_York:20260214T120000
DTSTAMP:20260423T074512
CREATED:20221130T203957Z
LAST-MODIFIED:20221130T203957Z
UID:26409-1771061400-1771070400@bzbi.org
SUMMARY:Shabbat Services
DESCRIPTION:This week\, BZBI holds services in the Sanctuary and on Zoom.\n \n\nThe Zoom link for BZBI religious services changed in September. You can sign up for the new link here.\nYou can download Siddur Sim Shalom\, used during Shabbat by going here.\nThe weekly Torah parashah can be found on our shofar blog\, here.\n\n  \nFor more information\, please click here. 
URL:https://bzbi.org/event/shabbat-services/2026-02-14/
LOCATION:In the Sanctuary & on Zoom
CATEGORIES:Everyone,Shabbat,Worship
ATTACH;FMTTYPE=image/jpeg:https://bzbi.org/wp-content/uploads/2022/11/shabbatservicesimage.jpg
END:VEVENT
END:VCALENDAR