BEGIN:VCALENDAR
VERSION:2.0
PRODID:-//BZBI - ECPv5.16.4//NONSGML v1.0//EN
CALSCALE:GREGORIAN
METHOD:PUBLISH
X-WR-CALNAME:BZBI
X-ORIGINAL-URL:https://bzbi.org
X-WR-CALDESC:Events for BZBI
REFRESH-INTERVAL;VALUE=DURATION:PT1H
X-Robots-Tag:noindex
X-PUBLISHED-TTL:PT1H
BEGIN:VTIMEZONE
TZID:America/New_York
BEGIN:DAYLIGHT
TZOFFSETFROM:-0500
TZOFFSETTO:-0400
TZNAME:EDT
DTSTART:20240310T070000
END:DAYLIGHT
BEGIN:STANDARD
TZOFFSETFROM:-0400
TZOFFSETTO:-0500
TZNAME:EST
DTSTART:20241103T060000
END:STANDARD
END:VTIMEZONE
BEGIN:VEVENT
DTSTART;TZID=America/New_York:20240401T080000
DTEND;TZID=America/New_York:20240401T170000
DTSTAMP:20260422T104254
CREATED:20240328T192533Z
LAST-MODIFIED:20240328T192548Z
UID:26553-1711958400-1711990800@bzbi.org
SUMMARY:Clean Your Pantry for Pesah Food Drive
DESCRIPTION:Donate unopened and unexpired packages of canned goods\, pasta\, rice\, chickpeas and legumes for our annual Pesah Food Drive! A bin will be available in the 18th Street Lobby to drop off donations.
URL:https://bzbi.org/event/clean-your-pantry-for-pesah-food-drive/2024-04-01/
CATEGORIES:Everyone,Social Action
ATTACH;FMTTYPE=image/jpeg:https://bzbi.org/wp-content/uploads/2024/03/happy-passover-with-leaves_23-2148485471-1264853254.jpg
END:VEVENT
BEGIN:VEVENT
DTSTART;TZID=America/New_York:20240405T110000
DTEND;TZID=America/New_York:20240405T140000
DTSTAMP:20260422T104254
CREATED:20231222T154921Z
LAST-MODIFIED:20240404T145803Z
UID:26175-1712314800-1712325600@bzbi.org
SUMMARY:Sima's Stitchers Takes a New Twist
DESCRIPTION:Want to learn how to knit caps for IDF soldiers? Need knitting lessons? Know how to knit but need directions for these caps? \nEileen Dwell is willing to provide you with private or small group lessons at a mutually convenient time in person or on Zoom.  Yes\, lessons can be on Zoom! \nDo you still want to know how to knit but need a different alternative? Consider joining Srigah B’ Ahava\, (Knit with Love)\, a group of knitters that meets on Fridays from 11:00 AM – 2:00 PM at The Weitzman on the third floor. \nFeel free to reach out to Eileen Dwell by phone\, text or email. Click here to send her a message with questions.
URL:https://bzbi.org/event/simas-stitchers-bzbi-knitting-group/2024-04-05/
LOCATION:The Weitzman\, 101 South Independence Mall\, Philadelphia\, PA\, 19106\, United States
CATEGORIES:Classes,Everyone,Social
ATTACH;FMTTYPE=image/jpeg:https://bzbi.org/wp-content/uploads/2023/12/knitting.jpg
END:VEVENT
BEGIN:VEVENT
DTSTART;TZID=America/New_York:20240406T131500
DTEND;TZID=America/New_York:20240406T141500
DTSTAMP:20260422T104254
CREATED:20240322T131036Z
LAST-MODIFIED:20240329T131324Z
UID:26537-1712409300-1712412900@bzbi.org
SUMMARY:Post Kiddush: Standing Together
DESCRIPTION:Please join us to meet two Israeli grassroots activists\, Rula Daood and Itamar Avneri\, from New Israel Fund grantee Omdim Beyachad/Naqaf Ma’an (Standing Together). Hear about the issues at the heart of the Israeli social change movement and how Jews and Palestinians are working together for a better\, more just future. \nAs the largest Jewish-Arab grassroots movement in Israel\, Standing Together has become an essential voice during this difficult moment in Israeli history. Rula and Itamar will share personal stories about the work they have done and the support system they have created through their thousands of members to maintain a group of dedicated Jews and Arabs who are devoted to creating a society capable of achieving peace\, equality and social justice for all.  \nAs with any of the programs we offer\, the viewpoints reflected by the speakers may or may not be those of the leadership of the synagogue. Our world has become more polarized and we are committed to providing room for all voices to be heard\, especially about Israel. We recognize the diversity of opinions represented in our community and support the opportunity to engage in robust and thoughtful conversation.  \nClick here to register. 
URL:https://bzbi.org/event/post-kiddush-standing-together/
LOCATION:BZBI Sanctuary
CATEGORIES:Adults,Discussions,Social Action
ATTACH;FMTTYPE=image/jpeg:https://bzbi.org/wp-content/uploads/2024/03/Standing-Together-demo.jpg
END:VEVENT
END:VCALENDAR