BEGIN:VCALENDAR
VERSION:2.0
PRODID:-//BZBI - ECPv5.16.4//NONSGML v1.0//EN
CALSCALE:GREGORIAN
METHOD:PUBLISH
X-ORIGINAL-URL:https://bzbi.org
X-WR-CALDESC:Events for BZBI
REFRESH-INTERVAL;VALUE=DURATION:PT1H
X-Robots-Tag:noindex
X-PUBLISHED-TTL:PT1H
BEGIN:VTIMEZONE
TZID:America/New_York
BEGIN:DAYLIGHT
TZOFFSETFROM:-0500
TZOFFSETTO:-0400
TZNAME:EDT
DTSTART:20260308T070000
END:DAYLIGHT
BEGIN:STANDARD
TZOFFSETFROM:-0400
TZOFFSETTO:-0500
TZNAME:EST
DTSTART:20261101T060000
END:STANDARD
END:VTIMEZONE
BEGIN:VEVENT
DTSTART;TZID=America/New_York:20260502T093000
DTEND;TZID=America/New_York:20260502T130000
DTSTAMP:20260423T120732
CREATED:20260415T174158Z
LAST-MODIFIED:20260415T174158Z
UID:29396-1777714200-1777726800@bzbi.org
SUMMARY:Annual Phyllis Kramer Torah Fund Shabbat
DESCRIPTION:We are hopeful that you will be able to be with us at our first annual Phyllis Kramer Torah Fund Shabbat on May 2\, 2026. Our speaker will be our own Rabbi Kenneth Stern who will share his experiences at JTS that were made possible because of WLCJ Torah Fund.
URL:https://bzbi.org/event/annual-phyllis-kramer-torah-fund-shabbat/
LOCATION:BZBI Sanctuary
CATEGORIES:Everyone,Worship
ATTACH;FMTTYPE=image/jpeg:https://bzbi.org/wp-content/uploads/2025/04/unnamed-33.jpg
END:VEVENT
BEGIN:VEVENT
DTSTART;TZID=America/New_York:20260504T190000
DTEND;TZID=America/New_York:20260504T203000
DTSTAMP:20260423T120732
CREATED:20260422T160157Z
LAST-MODIFIED:20260422T160157Z
UID:29405-1777921200-1777926600@bzbi.org
SUMMARY:Young Professional Lag B'Omer
DESCRIPTION:We’ll be gathering to enjoy a potato bar and s’mores. Soft drinks and seltzers will be provided. You’re welcome to bring your own beverages (alcoholic or non) and vegetarian snacks. Musical instruments are also encouraged! \nCost is $9/person. Given the limitations of space\, we anticipate this event will reach capacity\, so we strongly encourage you to register early! \nReach out to Hope Wright with questions.
URL:https://bzbi.org/event/young-professional-lag-bomer/
CATEGORIES:Celebration,Social,Young Professionals
ATTACH;FMTTYPE=image/png:https://bzbi.org/wp-content/uploads/2026/04/Lag-BOmer-54-Event.png
END:VEVENT
BEGIN:VEVENT
DTSTART;TZID=America/New_York:20260509T093000
DTEND;TZID=America/New_York:20260509T123000
DTSTAMP:20260423T120732
CREATED:20260422T160407Z
LAST-MODIFIED:20260422T205630Z
UID:29407-1778319000-1778329800@bzbi.org
SUMMARY:Jews and Divorce: Being a Welcoming Community for All of our Families 
DESCRIPTION:Join us for a special Shabbat with guest teachers Rabbi Ezra Weinberg and therapist Batsheva Ganz\, co-founders of Areivut. How can we\, as a Jewish community\, best support our members going through divorce? What rituals can help families in this process? What should we say (or not say) to someone who is getting a divorce? \nThe day will include a Shabbat teaching for the whole community\, a post-kiddush learning session\, and an afternoon meetup for Jews going through divorce. See a recent feature about Areivut’s work in the Jewish Exponent. 
URL:https://bzbi.org/event/jews-and-divorce-being-a-welcoming-community-for-all-of-our-families/
LOCATION:BZBI Sanctuary
CATEGORIES:Adults,Discussions,Lectures
ATTACH;FMTTYPE=image/jpeg:https://bzbi.org/wp-content/uploads/2026/04/Jews-and-Divorce.jpg
END:VEVENT
BEGIN:VEVENT
DTSTART;TZID=America/New_York:20260511T140000
DTEND;TZID=America/New_York:20260511T190000
DTSTAMP:20260423T120732
CREATED:20260415T173955Z
LAST-MODIFIED:20260415T173955Z
UID:29392-1778508000-1778526000@bzbi.org
SUMMARY:American Red Cross Blood Drive in Partnership with Tenth Presbyterian Church 
DESCRIPTION:Donate blood in May! Click here to sign up for a donation slot. \nPlease let Julia Pollock know if you can volunteer during the blood drive that day. 
URL:https://bzbi.org/event/american-red-cross-blood-drive-in-partnership-with-tenth-presbyterian-church/
LOCATION:tenth presbyterian church\, 1701 Delancey Street\, Philadelphia\, PA\, 19103\, United States
CATEGORIES:Everyone,Social Action
ATTACH;FMTTYPE=image/jpeg:https://bzbi.org/wp-content/uploads/2026/04/image005.jpg
END:VEVENT
BEGIN:VEVENT
DTSTART;TZID=America/New_York:20260525T100000
DTEND;TZID=America/New_York:20260525T113000
DTSTAMP:20260423T120732
CREATED:20250826T174634Z
LAST-MODIFIED:20250826T174710Z
UID:28522-1779703200-1779708600@bzbi.org
SUMMARY:Tractate Pesachim\, Chapter One with Rabbi Ira Stone
DESCRIPTION:Weekly on Monday’s\, Starting October 20 at 10:00 AM on Zoom \nWe will be studying the first chapter of the Talmudic Tractate Pesachim in our weekly Talmud class this year. While the opening topic of the chapter reviews the laws of Bedikat Hametz\, the search for the Hametz just prior to Pesach\, as is the nature of the Talmudic text\, subjects can run far a field as we follow the inimical associative reasoning of the sages. \nClick here to register.  \nA zoom link will be distributed ahead of the first class meeting after participants have registered. The cost is $180 for BZBI members and $250 for community members. 
URL:https://bzbi.org/event/tractate-pesachim-chapter-one-with-rabbi-ira-stone/2026-05-25/
LOCATION:Zoom Only
CATEGORIES:Adults,Classes
ATTACH;FMTTYPE=image/jpeg:https://bzbi.org/wp-content/uploads/2025/08/2-e1756230356749.jpg
END:VEVENT
END:VCALENDAR