BEGIN:VCALENDAR
VERSION:2.0
PRODID:-//BZBI - ECPv5.16.4//NONSGML v1.0//EN
CALSCALE:GREGORIAN
METHOD:PUBLISH
X-WR-CALNAME:BZBI
X-ORIGINAL-URL:https://bzbi.org
X-WR-CALDESC:Events for BZBI
REFRESH-INTERVAL;VALUE=DURATION:PT1H
X-Robots-Tag:noindex
X-PUBLISHED-TTL:PT1H
BEGIN:VTIMEZONE
TZID:America/New_York
BEGIN:DAYLIGHT
TZOFFSETFROM:-0500
TZOFFSETTO:-0400
TZNAME:EDT
DTSTART:20260308T070000
END:DAYLIGHT
BEGIN:STANDARD
TZOFFSETFROM:-0400
TZOFFSETTO:-0500
TZNAME:EST
DTSTART:20261101T060000
END:STANDARD
END:VTIMEZONE
BEGIN:VEVENT
DTSTART;TZID=America/New_York:20260326T123000
DTEND;TZID=America/New_York:20260326T140000
DTSTAMP:20260423T062530
CREATED:20260310T184505Z
LAST-MODIFIED:20260310T184505Z
UID:29138-1774528200-1774533600@bzbi.org
SUMMARY:Tikkun Olam Lunch & Learn: There Shall Be No Needy 
DESCRIPTION:Join Rabbi Abi Weber\, Davida Charney\, and Bill Brookover for our next Tikkun Olam Lunch & Learn! Each month\, we will meet to discuss There Shall Be No Needy: Pursuing Social Justice Through Jewish Law & Tradition by Rabbi Jill Jacobs. Please read Chapter 2 ahead of the meeting. \nDon’t worry if you don’t get to it in time — we’ll have source sheets available! Lunch will be provided — please register here by Tuesday\, March 24.
URL:https://bzbi.org/event/tikkun-olam-lunch-learn-there-shall-be-no-needy/
CATEGORIES:Adults,Discussions,Social,Social Action
ATTACH;FMTTYPE=image/jpeg:https://bzbi.org/wp-content/uploads/2026/03/there.shall_.be_.no_.needy-1.jpg
END:VEVENT
BEGIN:VEVENT
DTSTART;TZID=America/New_York:20260402T183000
DTEND;TZID=America/New_York:20260402T200000
DTSTAMP:20260423T062530
CREATED:20260318T203037Z
LAST-MODIFIED:20260325T134549Z
UID:29310-1775154600-1775160000@bzbi.org
SUMMARY:Second Seder at BZBI
DESCRIPTION:BZBI is proud to announce that we will be hosting a second night Seder for the BZBI community thanks to a very generous and Anonymous Donor who helped to lower the cost to our community. We welcome all to join your BZBI family for a warm\, inviting and celebratory occasion – catered by Deluxe Catering and led by Rabbi Kenneth A. Stern. \nRegistration is now closed\, if you are interested in joining us next year\, let the Temple Office know!  \nThe menu includes: \nFIRST COURSE\nChicken Soup with Matzah Balls\nHearty Garden Fresh Vegetables in a Vegetarian Broth \nSECOND COURSE\nGefilte Fish with Beet Horseradish \nSIDE DISHES\nGlazed Carrots with Yams\, Assorted Dried Fruit\, and Accent of Cinnamon\nYukon Gold Mashed Potatoes with garlic \nENTREE COURSE \nBraised Brisket with House-Made Bourbon BBQ Sauce\nSquash with Quinoa\nChicken Fingers & French Fries \nDESSERT OPTIONS\nBrownies (Not Gluten-Free) and Nut-Free Charoset\nSelection of Assorted Passover Macaroons\nSeasonal Fresh Fruit to include Watermelon\, Honeydew\, Cantaloupe\, Pineapple\, and Grapes
URL:https://bzbi.org/event/second-seder-at-bzbi/
LOCATION:Kahaner Auditorium
CATEGORIES:Adults,Celebration,Early Childhood,Everyone,Families,Holidays,Observances,Social,Worship
ATTACH;FMTTYPE=image/png:https://bzbi.org/wp-content/uploads/2026/03/Passover-2026-Graphics-8.5-x-111.png
END:VEVENT
BEGIN:VEVENT
DTSTART;TZID=America/New_York:20260406T120000
DTEND;TZID=America/New_York:20260406T130000
DTSTAMP:20260423T062530
CREATED:20260318T203257Z
LAST-MODIFIED:20260318T203346Z
UID:29313-1775476800-1775480400@bzbi.org
SUMMARY:Pesah Hol HaMoed Lunches
DESCRIPTION:Pesah Hol HaMoed Lunches Are Back  \nOn Monday and Tuesday (April 6 and April 7 at 12:00 PM in the Kahaner Auditorium)\, BZBI will host catered\, kosher for Pesah lunch for members\, and the entire Center City Jewish community. BZBI members receive a discount\, so sign up today and send the link on to those who might wish to join us! Click here to register. \nMaximum Capacity: 20 people for each meal. 
URL:https://bzbi.org/event/pesah-hol-hamoed-lunches/2026-04-06/
LOCATION:Kahaner Auditorium
CATEGORIES:Adults,Everyone,Holidays
ATTACH;FMTTYPE=image/png:https://bzbi.org/wp-content/uploads/2026/03/Pesah-lunches-2026.png
END:VEVENT
BEGIN:VEVENT
DTSTART;TZID=America/New_York:20260413T180000
DTEND;TZID=America/New_York:20260413T193000
DTSTAMP:20260423T062530
CREATED:20260331T155101Z
LAST-MODIFIED:20260331T155101Z
UID:29363-1776103200-1776108600@bzbi.org
SUMMARY:Yom HaShoah at BZBI: The World that Was
DESCRIPTION:Join us on the eve of Yom Hashoah (Holocaust Memorial Day) for a moving ceremony and presentation by Nancy Scholem (sister of Rabbi Ken Stern). Nancy will speak about her mother’s experience — Rabbi Ken says that she “channels our mother” — surviving Auschwitz and the death marches\, ultimately to be liberated from Bergen-Belsen. From Germany\, she went on to convalesce in Sweden before coming to relatives in Chester\, PA. \nNancy will share family stories\, photos\, and history about the Jewish community in Czechoslovakia and Hungary prior to the Nazi invasion.
URL:https://bzbi.org/event/yom-hashoah-at-bzbi-the-world-that-was/
LOCATION:BZBI chapel
CATEGORIES:Adults,Holidays,Observances,Worship
ATTACH;FMTTYPE=image/png:https://bzbi.org/wp-content/uploads/2026/03/Yom-haShoah.png
END:VEVENT
BEGIN:VEVENT
DTSTART;TZID=America/New_York:20260419T090000
DTEND;TZID=America/New_York:20260419T130000
DTSTAMP:20260423T062530
CREATED:20260319T190941Z
LAST-MODIFIED:20260415T172202Z
UID:29323-1776589200-1776603600@bzbi.org
SUMMARY:Community Gathering for Yom Hazikaron and Yom Ha'atzmaut
DESCRIPTION:Special guests from Jerusalem Nava Tehila will lead us in a powerful ceremony transitioning from Yom HaZikaron (Memorial Day for fallen Israeli soldiers and victims of terror) to Yom HaAtzmaut (Israeli Independence Day). Keren Keshet\, the leader of Philadelphia’s Israel Scouts unit (“Pa’amon Tzofim”)\, will present about her experience as a child born during the Yom Kippur war\, now a mother of Israeli soldiers since October 7. \nLight refreshments will be served. Register here (donations optional). \nThis program will be in conjunction with our Morning Minyan. 
URL:https://bzbi.org/event/community-gathering-for-yom-hazikaron-and-yom-haatzmaut/
CATEGORIES:Adults,Early Childhood,Everyone,Families,Observances
ATTACH;FMTTYPE=image/jpeg:https://bzbi.org/wp-content/uploads/2026/03/NavaTehila.jpg
END:VEVENT
BEGIN:VEVENT
DTSTART;TZID=America/New_York:20260423T190000
DTEND;TZID=America/New_York:20260423T210000
DTSTAMP:20260423T062530
CREATED:20260415T174100Z
LAST-MODIFIED:20260415T174100Z
UID:29394-1776970800-1776978000@bzbi.org
SUMMARY:Rebuilding the Future: Resilience\, Recovery\, and Hope in Israel
DESCRIPTION:Please join us for a meaningful discussion with Gilles Darmon\, Founder and President of Latet\, Israel’s largest NGO fighting poverty and food insecurity\, for a rare and intimate conversation about the effects that the prolonged war had on poverty\, resilience\, and hope in Israel\, and the role of Israeli civil society in rebuilding the country. We hope you’ll be able to join us for an evening of discovery\, insights\, and solidarity. \nClick here to register. \nThe event will take place in Philadelphia (near Rittenhouse square)\, exact address will be provided closer to the event. For questions please contact Ortal Margalith.
URL:https://bzbi.org/event/rebuilding-the-future-resilience-recovery-and-hope-in-israel/
CATEGORIES:Everyone,Social Action
ATTACH;FMTTYPE=image/png:https://bzbi.org/wp-content/uploads/2026/04/Screenshot-2026-04-14-160621.png
END:VEVENT
BEGIN:VEVENT
DTSTART;TZID=America/New_York:20260426T150000
DTEND;TZID=America/New_York:20260426T170000
DTSTAMP:20260423T062530
CREATED:20260312T134634Z
LAST-MODIFIED:20260312T134634Z
UID:29146-1777215600-1777222800@bzbi.org
SUMMARY:Resilience and Return: Segev Kalfon’s Survival of Captivity in Gaza 
DESCRIPTION:Join us as Segev Kalfon shares his remarkable story of the resilience\, determination\, and faith which sustained him through 738 days of captivity in Gaza. He will discuss the strength\, purpose\, and hope that can emerge even in the darkest of circumstances.This program will be held in Society Hill Synagogue’s Sanctuary\, with a reception and Israeli hors d’oeuvres to follow in the Social Hall. \nThis program is presented by Society Hill Synagogue’s Israel Connections Subcommittee in partnership with Temple Beth Zion-Beth Israel and the Jewish Community Relations Council of the Jewish Federation of Greater Philadelphia. \nClick here to register.
URL:https://bzbi.org/event/resilience-and-return-segev-kalfons-survival-of-captivity-in-gaza/
LOCATION:Society Hill Synagogue\, 418 Spruce Street\, Philadelphia\, PA\, 19106\, United States
CATEGORIES:Adults,Discussions,Everyone,Families,Lectures,Meeting,Social,Social Action,Worship,Young Professionals
ATTACH;FMTTYPE=image/jpeg:https://bzbi.org/wp-content/uploads/2026/03/Resilience-and-Return-Segev-Kalfons-Survival-of-Captivity.jpg
GEO:39.9448289;-75.1494915
X-APPLE-STRUCTURED-LOCATION;VALUE=URI;X-ADDRESS=Society Hill Synagogue 418 Spruce Street Philadelphia PA 19106 United States;X-APPLE-RADIUS=500;X-TITLE=418 Spruce Street:geo:-75.1494915,39.9448289
END:VEVENT
BEGIN:VEVENT
DTSTART;TZID=America/New_York:20260427T181500
DTEND;TZID=America/New_York:20260427T194500
DTSTAMP:20260423T062530
CREATED:20260325T170950Z
LAST-MODIFIED:20260415T172340Z
UID:29338-1777313700-1777319100@bzbi.org
SUMMARY:Get Siddurized: A Class on the Siddur with Leslee Schwartz
DESCRIPTION:Ever wonder when to stand and when to sit during Shabbat services? How and when to bow? Why to repeat some lines and not others? Wish you had notes in your siddur? If so\, join Leslee Schwartz for these classes where you can talk through the order of the service and personalize your own copy of Sim Shalom! \nClick here to register. \nPurchase a copy of the blue Siddur Sim Shalom for Shabbat from the Rabbinical Assembly here. \nIf cost is in any way an obstacle to registering please call or email Leslee directly!
URL:https://bzbi.org/event/get-siddurized-a-class-on-the-siddur-with-leslee-schwartz/2026-04-27/
CATEGORIES:Adults,Classes,Worship
ATTACH;FMTTYPE=image/jpeg:https://bzbi.org/wp-content/uploads/2026/03/getsiddurized.jpeg
END:VEVENT
BEGIN:VEVENT
DTSTART;TZID=America/New_York:20260429T181500
DTEND;TZID=America/New_York:20260429T194500
DTSTAMP:20260423T062530
CREATED:20260331T152233Z
LAST-MODIFIED:20260401T133408Z
UID:29357-1777486500-1777491900@bzbi.org
SUMMARY:Whatever Exists\, Exists in God: A Contemporary Jewish Encounter with Spinoza’s Ethics led by Rabbi Ira F. Stone
DESCRIPTION:A brief introduction to the work of one of the greatest Jewish philosophers whose work caused his excommunication from the Jewish community 500 years ago.. a ban that is theoretically still in force. But Spinoza’s worldview is one that may be much more compelling to contemporary Jews. In fact\, it may serve as a firmer basis for religious affiliation and practice than more traditional frameworks do for many. We will explore the basic outline of his thought and its potential applications for today. \nThere are four sessions within the course\, each costing $25 ($100 for the full four weeks). Click here to register!
URL:https://bzbi.org/event/whatever-exists-exist-in-god-a-contemporary-jewish-encounter-with-spinozas-ethics-led-by-rabbi-ira-f-stone/2026-04-29/
LOCATION:BZBI chapel
CATEGORIES:Adults,Classes
ATTACH;FMTTYPE=image/jpeg:https://bzbi.org/wp-content/uploads/2026/03/Baruch_Spinoza_03.jpg
END:VEVENT
BEGIN:VEVENT
DTSTART;TZID=America/New_York:20260502T093000
DTEND;TZID=America/New_York:20260502T130000
DTSTAMP:20260423T062530
CREATED:20260415T174158Z
LAST-MODIFIED:20260415T174158Z
UID:29396-1777714200-1777726800@bzbi.org
SUMMARY:Annual Phyllis Kramer Torah Fund Shabbat
DESCRIPTION:We are hopeful that you will be able to be with us at our first annual Phyllis Kramer Torah Fund Shabbat on May 2\, 2026. Our speaker will be our own Rabbi Kenneth Stern who will share his experiences at JTS that were made possible because of WLCJ Torah Fund.
URL:https://bzbi.org/event/annual-phyllis-kramer-torah-fund-shabbat/
LOCATION:BZBI Sanctuary
CATEGORIES:Everyone,Worship
ATTACH;FMTTYPE=image/jpeg:https://bzbi.org/wp-content/uploads/2025/04/unnamed-33.jpg
END:VEVENT
BEGIN:VEVENT
DTSTART;TZID=America/New_York:20260504T190000
DTEND;TZID=America/New_York:20260504T203000
DTSTAMP:20260423T062530
CREATED:20260422T160157Z
LAST-MODIFIED:20260422T160157Z
UID:29405-1777921200-1777926600@bzbi.org
SUMMARY:Young Professional Lag B'Omer
DESCRIPTION:We’ll be gathering to enjoy a potato bar and s’mores. Soft drinks and seltzers will be provided. You’re welcome to bring your own beverages (alcoholic or non) and vegetarian snacks. Musical instruments are also encouraged! \nCost is $9/person. Given the limitations of space\, we anticipate this event will reach capacity\, so we strongly encourage you to register early! \nReach out to Hope Wright with questions.
URL:https://bzbi.org/event/young-professional-lag-bomer/
CATEGORIES:Celebration,Social,Young Professionals
ATTACH;FMTTYPE=image/png:https://bzbi.org/wp-content/uploads/2026/04/Lag-BOmer-54-Event.png
END:VEVENT
BEGIN:VEVENT
DTSTART;TZID=America/New_York:20260509T093000
DTEND;TZID=America/New_York:20260509T123000
DTSTAMP:20260423T062530
CREATED:20260422T160407Z
LAST-MODIFIED:20260422T205630Z
UID:29407-1778319000-1778329800@bzbi.org
SUMMARY:Jews and Divorce: Being a Welcoming Community for All of our Families 
DESCRIPTION:Join us for a special Shabbat with guest teachers Rabbi Ezra Weinberg and therapist Batsheva Ganz\, co-founders of Areivut. How can we\, as a Jewish community\, best support our members going through divorce? What rituals can help families in this process? What should we say (or not say) to someone who is getting a divorce? \nThe day will include a Shabbat teaching for the whole community\, a post-kiddush learning session\, and an afternoon meetup for Jews going through divorce. See a recent feature about Areivut’s work in the Jewish Exponent. 
URL:https://bzbi.org/event/jews-and-divorce-being-a-welcoming-community-for-all-of-our-families/
LOCATION:BZBI Sanctuary
CATEGORIES:Adults,Discussions,Lectures
ATTACH;FMTTYPE=image/jpeg:https://bzbi.org/wp-content/uploads/2026/04/Jews-and-Divorce.jpg
END:VEVENT
BEGIN:VEVENT
DTSTART;TZID=America/New_York:20260511T140000
DTEND;TZID=America/New_York:20260511T190000
DTSTAMP:20260423T062530
CREATED:20260415T173955Z
LAST-MODIFIED:20260415T173955Z
UID:29392-1778508000-1778526000@bzbi.org
SUMMARY:American Red Cross Blood Drive in Partnership with Tenth Presbyterian Church 
DESCRIPTION:Donate blood in May! Click here to sign up for a donation slot. \nPlease let Julia Pollock know if you can volunteer during the blood drive that day. 
URL:https://bzbi.org/event/american-red-cross-blood-drive-in-partnership-with-tenth-presbyterian-church/
LOCATION:tenth presbyterian church\, 1701 Delancey Street\, Philadelphia\, PA\, 19103\, United States
CATEGORIES:Everyone,Social Action
ATTACH;FMTTYPE=image/jpeg:https://bzbi.org/wp-content/uploads/2026/04/image005.jpg
END:VEVENT
END:VCALENDAR