BEGIN:VCALENDAR
VERSION:2.0
PRODID:-//BZBI - ECPv5.16.4//NONSGML v1.0//EN
CALSCALE:GREGORIAN
METHOD:PUBLISH
X-ORIGINAL-URL:https://bzbi.org
X-WR-CALDESC:Events for BZBI
REFRESH-INTERVAL;VALUE=DURATION:PT1H
X-Robots-Tag:noindex
X-PUBLISHED-TTL:PT1H
BEGIN:VTIMEZONE
TZID:America/New_York
BEGIN:DAYLIGHT
TZOFFSETFROM:-0500
TZOFFSETTO:-0400
TZNAME:EDT
DTSTART:20240310T070000
END:DAYLIGHT
BEGIN:STANDARD
TZOFFSETFROM:-0400
TZOFFSETTO:-0500
TZNAME:EST
DTSTART:20241103T060000
END:STANDARD
END:VTIMEZONE
BEGIN:VEVENT
DTSTART;TZID=America/New_York:20241116T193000
DTEND;TZID=America/New_York:20241116T213000
DTSTAMP:20260424T033525
CREATED:20241105T152954Z
LAST-MODIFIED:20241105T152954Z
UID:27708-1731785400-1731792600@bzbi.org
SUMMARY:BZBI Sisterhood Goes to the Movies
DESCRIPTION:Sisterhood is planning an evening at the Philly Jewish Film Festival (PJFF) on opening night to see the award-winning film “Bad Shabbos”. \nIndividual tickets are $20 (it includes the post-film reception). We have arranged for a $5 dollar discount if you use the discount code: SisterhoodShabbos (it will apply to ticket purchases only made through this Sunday\, November 3 at 11:59 PM). Click here to buy your tickets. \nPlease join us and bring a guest! Once you have purchased tickets\, please add your full name to this google form so that we can try to hold enough seats for all of us in the theatre. \nWe look forward to sharing our thoughts about the film when we meet up at the PJFF reception following the film. If you have any questions\, please contact Zelda Greenstein. 
URL:https://bzbi.org/event/bzbi-sisterhood-goes-to-the-movies/
LOCATION:The Weitzman\, 101 South Independence Mall\, Philadelphia\, PA\, 19106\, United States
CATEGORIES:Adults,Everyone,Social
ATTACH;FMTTYPE=image/png:https://bzbi.org/wp-content/uploads/2024/11/images-3.png
END:VEVENT
END:VCALENDAR